BEGIN:VCALENDAR
VERSION:2.0
PRODID:-//Wielertoerclub Woensdrecht - ECPv6.15.20//NONSGML v1.0//EN
CALSCALE:GREGORIAN
METHOD:PUBLISH
X-WR-CALNAME:Wielertoerclub Woensdrecht
X-ORIGINAL-URL:http://wtc-woensdrecht.nl
X-WR-CALDESC:Evenementen voor Wielertoerclub Woensdrecht
REFRESH-INTERVAL;VALUE=DURATION:PT1H
X-Robots-Tag:noindex
X-PUBLISHED-TTL:PT1H
BEGIN:VTIMEZONE
TZID:UTC
BEGIN:STANDARD
TZOFFSETFROM:+0000
TZOFFSETTO:+0000
TZNAME:UTC
DTSTART:20220101T000000
END:STANDARD
END:VTIMEZONE
BEGIN:VEVENT
DTSTART;TZID=UTC:20231015T090000
DTEND;TZID=UTC:20231015T120000
DTSTAMP:20260424T214226
CREATED:20231011T171027Z
LAST-MODIFIED:20231023T174230Z
UID:613-1697360400-1697371200@wtc-woensdrecht.nl
SUMMARY:Winterprogramma MTB
DESCRIPTION:Gedurende de maanden oktober t/m februari rijden we op zondag lokale toertochten of eigen route. \nVertrek 9.00! \n———————————————————– \nOverzicht georganiseerde tochten vind je terug in het nieuwsoverzicht!
URL:http://wtc-woensdrecht.nl/agenda/winterprogramma-mtb/
LOCATION:Gemeentehuis\, Hoogerheide\, Nederland
END:VEVENT
END:VCALENDAR