BEGIN:VCALENDAR
VERSION:2.0
PRODID:-//Wielertoerclub Woensdrecht - ECPv6.15.20//NONSGML v1.0//EN
CALSCALE:GREGORIAN
METHOD:PUBLISH
X-ORIGINAL-URL:http://wtc-woensdrecht.nl
X-WR-CALDESC:Evenementen voor Wielertoerclub Woensdrecht
REFRESH-INTERVAL;VALUE=DURATION:PT1H
X-Robots-Tag:noindex
X-PUBLISHED-TTL:PT1H
BEGIN:VTIMEZONE
TZID:UTC
BEGIN:STANDARD
TZOFFSETFROM:+0000
TZOFFSETTO:+0000
TZNAME:UTC
DTSTART:20220101T000000
END:STANDARD
END:VTIMEZONE
BEGIN:VEVENT
DTSTART;TZID=UTC:20230513T083000
DTEND;TZID=UTC:20230513T130000
DTSTAMP:20260424T215810
CREATED:20230514T064835Z
LAST-MODIFIED:20230514T064835Z
UID:450-1683966600-1683982800@wtc-woensdrecht.nl
SUMMARY:Koos Moerenhout Classic 2023
DESCRIPTION:Voor de liefhebbers nemen we deel aan de Koos Moerenhout Classic 2023 – toertocht 125 km.
URL:http://wtc-woensdrecht.nl/agenda/koos-moerenhout-classic-2023/
LOCATION:Walkant\, Woensdrecht\, Nederland
ATTACH;FMTTYPE=image/jpeg:http://wtc-woensdrecht.nl/wp-content/uploads/2023/05/download.jpeg
END:VEVENT
END:VCALENDAR