BEGIN:VCALENDAR
VERSION:2.0
PRODID:-//Wielertoerclub Woensdrecht - ECPv6.15.20//NONSGML v1.0//EN
CALSCALE:GREGORIAN
METHOD:PUBLISH
X-WR-CALNAME:Wielertoerclub Woensdrecht
X-ORIGINAL-URL:http://wtc-woensdrecht.nl
X-WR-CALDESC:Evenementen voor Wielertoerclub Woensdrecht
REFRESH-INTERVAL;VALUE=DURATION:PT1H
X-Robots-Tag:noindex
X-PUBLISHED-TTL:PT1H
BEGIN:VTIMEZONE
TZID:Europe/Paris
BEGIN:DAYLIGHT
TZOFFSETFROM:+0100
TZOFFSETTO:+0200
TZNAME:CEST
DTSTART:20230326T010000
END:DAYLIGHT
BEGIN:STANDARD
TZOFFSETFROM:+0200
TZOFFSETTO:+0100
TZNAME:CET
DTSTART:20231029T010000
END:STANDARD
BEGIN:DAYLIGHT
TZOFFSETFROM:+0100
TZOFFSETTO:+0200
TZNAME:CEST
DTSTART:20240331T010000
END:DAYLIGHT
BEGIN:STANDARD
TZOFFSETFROM:+0200
TZOFFSETTO:+0100
TZNAME:CET
DTSTART:20241027T010000
END:STANDARD
BEGIN:DAYLIGHT
TZOFFSETFROM:+0100
TZOFFSETTO:+0200
TZNAME:CEST
DTSTART:20250330T010000
END:DAYLIGHT
BEGIN:STANDARD
TZOFFSETFROM:+0200
TZOFFSETTO:+0100
TZNAME:CET
DTSTART:20251026T010000
END:STANDARD
END:VTIMEZONE
BEGIN:VEVENT
DTSTART;TZID=Europe/Paris:20240804T090000
DTEND;TZID=Europe/Paris:20240804T120000
DTSTAMP:20260426T014849
CREATED:20230515T184116Z
LAST-MODIFIED:20240721T132641Z
UID:486-1722762000-1722772800@wtc-woensdrecht.nl
SUMMARY:Route samen met de  Schelderijders
DESCRIPTION:We sluiten aan bij de Schelderijders. \nroute volgt!
URL:http://wtc-woensdrecht.nl/agenda/vrije-route-breda/
LOCATION:Boulevard  Hoogerheide\, raadhuisstraat 119\, Hoogerheide
ATTACH;FMTTYPE=image/jpeg:http://wtc-woensdrecht.nl/wp-content/uploads/2023/05/grote-kerk-breda_3828759302.jpeg
END:VEVENT
END:VCALENDAR